{"text_format":"2","workbook":"xlsx","n_sheets":8,"sheets":["Данные","Заявление в ГИБДД","Заявление в ГИБДД от организаци","Договор дарения","Договор аренды","ДОВЕРЕННОСТЬ","ЖАЛОБА","ДКП"],"not_rendered":{"charts":0,"images":0,"macros":0,"external_links":0,"defined_names":0,"comments":0,"pivot_tables":0},"unopened":[],"bounds":{"document_bytes":16777216,"sheet_cells":100000,"run_cost":"one","rows_first":2000,"rows_last":500,"rows_between":2000,"halvings":0,"cell_chars":16384,"cell_head_chars":4096},"cells_cut":0,"cells_raw":0,"read":"whole","date_system":"1900"}

{"sheet":"Данные","index":0,"n_rows":70,"n_cols":2,"rows_kept":70,"cut":false,"hidden":false,"merged":[[0,0,0,1],[2,0,2,1],[19,0,19,1],[42,0,42,1],[57,0,57,1]]}
["Задача таблицы — упростить жизнь автовладельца. Ему нужно один раз заполнить все графы в листе «Данные» при покупке машины. После этого он получит пакет заполненных документов: заявление, с которым обратится в ГИБДД для регистрации, доверенность, по которой сможет передать полномочия, жалобу на постановление об административном правонарушении и договор купли-продажи, который он может использовать при продаже машины. Каждый шаблон отдельно заполнять не придется: все, что нужно, будет перенесено из листа с данными автоматически. Для экономии времени при заполнении реализована автоподстановка"]
[]
["Собственник машины"]
["ФИО","Иванов Валентин Иванович"]
["Дата рождения","22.09.1944"]
["Место рождения","г. Москва"]
["Документ, удостоверяющий личность","ПАСПОРТ"]
["Серия и номер документа, удостоверяющего личность","9393 123245"]
["Адрес регистрации ","г. Москва, ул. Пушкина, д. 34а"]
["Номер телефона",{"$f":"799633800000","v":799633800000}]
["Гражданство","Россия"]
["СНИЛС (по желанию)",1.9191919E7]
["ИНН",2.83974628E8]
["Пол","М"]
["Электронная почта","аа@mail.ru"]
["Серия и номер водительского удостоверения","1700 0000000"]
["Дата выдачи водительского удостоверения","2023-12-12"]
["Подразделение, выдавшее документ","ГИБДД 170000"]
[]
["Данные автомобиля"]
["Государственный регистрационный номер","А000АА24"]
["Идентификационный номер (VIN)",1.90238409284839E14]
["Модель, марка","ВАЗ-2101"]
["Тип транспортного средства","легковой"]
["Цвет","красный"]
["Категория ","В1"]
["Год выпуска",1972.0]
["Шасси (рама) №","Ж8539493878"]
["Регистрационный документ транспортного средства","СТС"]
["Серия и номер регистрационного документа","0 000000000"]
["Дата выдачи регистрационного документа","1988-01-01"]
["Кузов (кабина, прицеп) №",8.32748923E8]
["Тип привода","ПЕРЕДНИЙ"]
["Тип двигателя","бензин"]
["Тип трансмиссии","автомат"]
["Рулевое расположение","СПРАВА"]
["Технически допустимая максимальная масса, кг",2304929.0]
["Масса в снаряженном состоянии, кг",1800.0]
["Модель двигателя","ХТФ0407"]
["Двигатель №",2.397983873E9]
["Паспорт транспортного средства (он может быть электронным или бумажным)","879349879879283497879"]
[]
["Данные доверенного лица — если вы доверили продажу, регистрацию автомобиля или управление им, здесь указываете данные человека, которому вы это доверили. Если полномочия никому не передаете, раздел заполнять не нужно"]
["ФИО","ПЕТРОВ ПЕТР ПЕТРОВИЧ"]
["Дата рождения","22.09.1974"]
["Место рождения","г. Санкт-Петербург"]
["Документ, удостоверяющий личность","ПАСПОРТ"]
["Серия и номер документа, удостоверяющего личность","9393 1222333"]
["Адрес регистрации ","г. Санкт-Петербург, ул. Иванова, д. 28, кв. 11"]
["Номер телефона","7 777 333 1212"]
["Гражданство","Россия"]
["СНИЛС (по желанию)",1.23456789E9]
["ИНН",1.23456789E9]
["Пол","М"]
["Электронная почта","11111@mail.ru"]
["Серия и номер доверенности (если она заверена нотариально)",9.99999999E8]
["Дата выдачи доверенности","2043-12-12"]
["Данные покупателя или одаряемого — заполните этот раздел, если приняли решение о продаже или дарении автомобиля"]
["ФИО","Иванов Сергей Иванович"]
["Дата рождения","01.01.1986"]
["Место рождения","г. Новосибирск "]
["Документ, удостоверяющий личность","ПАСПОРТ"]
["Серия и номер документа, удостоверяющего личность","9393 155524"]
["Адрес регистрации ","Новосибирск, ул. Ленина, д. 99б, кв. 1"]
["Номер телефона",{"$f":"79963381299","v":79963381299}]
["Гражданство","Россия"]
["СНИЛС (по желанию)",1.9191919E7]
["ИНН",2.83974628E8]
["Пол","М"]
["Электронная почта","pp74@mail.ru"]

{"sheet":"Заявление в ГИБДД","index":1,"n_rows":99,"n_cols":64,"rows_kept":99,"cut":false,"hidden":false,"merged":[[52,0,54,12],[52,13,52,26],[53,13,53,26],[54,13,54,20],[54,21,54,26],[54,41,54,53],[55,30,55,62],[56,30,56,62],[39,0,39,12],[41,13,42,26],[41,27,42,40],[41,41,42,53],[41,54,54,63],[43,41,43,53],[44,41,45,53],[40,0,40,12],[45,0,45,12],[49,0,50,12],[49,13,50,26],[49,27,50,40],[49,41,50,53],[51,0,51,12],[51,13,51,26],[51,27,51,40],[51,41,51,53],[52,27,52,40],[52,41,52,53],[68,30,68,62],[70,29,70,63],[92,0,92,28],[93,0,93,28],[94,0,94,28],[87,1,87,13],[88,1,88,13],[88,16,88,27],[90,0,90,63],[91,0,91,28],[91,29,91,63],[92,29,92,63],[61,30,61,62],[62,30,62,62],[64,0,66,28],[64,29,66,63],[67,1,67,13],[67,30,67,62],[68,1,68,13],[71,30,71,62],[72,30,72,62],[74,29,76,63],[77,30,77,62],[78,30,78,62],[67,16,67,27],[68,16,68,27],[70,0,70,28],[71,1,71,13],[71,16,71,27],[72,1,72,13],[72,16,72,27],[82,29,82,63],[83,29,83,63],[84,29,84,63],[85,29,85,63],[86,29,86,63],[87,30,87,62],[88,30,88,62],[74,0,76,28],[77,1,77,13],[77,16,77,27],[78,1,78,13],[78,16,78,27],[80,0,80,63],[81,29,81,63],[81,0,81,28],[82,0,82,28],[83,0,83,28],[84,0,84,28],[85,0,85,28],[86,0,86,28],[87,16,87,27],[97,0,97,18],[98,0,98,18],[98,19,98,29],[98,30,98,52],[98,53,98,63],[22,0,22,22],[22,23,22,63],[24,0,24,63],[25,0,25,63],[26,0,26,63],[27,32,27,39],[27,40,27,63],[27,0,27,31],[28,0,28,31],[28,32,28,43],[28,44,28,63],[29,0,29,31],[29,32,30,63],[30,0,30,31],[34,16,34,27],[34,30,34,62],[31,0,31,31],[31,32,31,63],[32,0,32,31],[32,32,32,47],[32,48,32,50],[32,51,32,63],[34,1,34,13],[38,41,40,53],[38,54,40,63],[35,1,35,13],[35,16,35,27],[35,30,35,62],[37,0,37,63],[38,0,38,12],[38,13,40,26],[38,27,40,40],[0,12,0,20],[0,33,0,62],[1,2,1,62],[2,2,2,62],[3,27,3,63],[4,8,4,62],[5,8,5,62],[6,0,6,63],[9,0,9,63],[10,8,10,62],[11,8,12,62],[13,0,13,31],[13,32,13,39],[13,40,13,63],[14,0,14,31],[14,32,14,43],[14,44,14,63],[15,0,15,31],[15,32,16,63],[16,0,16,31],[17,0,17,11],[19,32,21,34],[19,35,21,37],[19,38,21,53],[19,54,21,63],[17,12,18,31],[17,32,17,43],[17,44,18,63],[18,0,18,11],[18,32,18,43],[19,0,21,11],[19,12,21,31],[42,0,42,12],[43,0,43,12],[43,13,43,26],[43,27,43,40],[41,0,41,12],[44,0,44,12],[44,13,45,26],[44,27,45,40],[46,0,46,12],[46,13,46,26],[46,27,46,40],[46,41,46,53],[47,0,48,12],[47,13,48,26],[47,27,48,40],[47,41,48,53],[58,0,60,22],[61,1,61,13],[61,16,61,27],[62,1,62,13],[62,16,62,27],[53,27,54,40],[53,41,53,53],[55,1,55,13],[55,16,55,27],[56,1,56,13],[56,16,56,27],[58,23,60,63],[97,19,97,29],[97,30,97,52],[93,29,93,63],[94,29,94,63],[95,1,95,24],[95,39,95,62],[96,1,96,24],[96,39,96,62],[97,53,97,63]]}
["ЗАЯВЛЕНИЕ №",{"$nulls":20},"В Госавтоинспекцию"]
["Я,",null,{"$f":"'Данные'!B4","v":"Иванов Валентин Иванович"},{"$nulls":60},","]
[null,null,"(фамилия, имя, отчество (при наличии))"]
["представляя нижеследующие документы, прошу:"]
["Предоставить",{"$nulls":7},"снять автомобиль с учета в связи с утилизацией"]
[{"$nulls":8},"(описание услуги)"]
[]
[]
[]
["СВЕДЕНИЯ О ВЛАДЕЛЬЦЕ ТРАНСПОРТНОГО СРЕДСТВА"]
["Собственник",{"$nulls":7},{"$f":"'Данные'!B4","v":"Иванов Валентин Иванович"}]
[{"$nulls":8},"фамилия, имя, отчество (при наличии), полное или сокращенное (при наличии) \nнаименование юридического лица (далее — ЮЛ)"]
[]
["Дата и место рождения",{"$nulls":31},{"$f":"'Данные'!B5","v":"22.09.1944"},{"$nulls":7},{"$f":"'Данные'!B6","v":"г. Москва"}]
["Документ, удостоверяющий личность",{"$nulls":31},{"$f":"'Данные'!B7","v":"ПАСПОРТ"},{"$nulls":11},{"$f":"'Данные'!B8","v":"9393 123245"}]
["Адрес регистрации по месту жительства (пребывания)",{"$nulls":31},{"$f":"'Данные'!B9","v":"г. Москва, ул. Пушкина, д. 34а"}]
["физического лица или адрес в пределах места нахождения ЮЛ"]
["Номер",{"$nulls":11},{"$f":"'Данные'!B10","v":799633800000},{"$nulls":19},"Электронная почта",{"$nulls":11},{"$f":"'Данные'!B15","v":"аа@mail.ru"}]
["телефона",{"$nulls":31},"(при наличии)"]
["Гражданство",{"$nulls":11},{"$f":"'Данные'!B11","v":"Россия"},{"$nulls":19},"Пол",null,null,{"$f":"'Данные'!B14","v":"М"},null,null,"Идентификационный номер\nналогоплательщика (для\nфизических лиц (при наличии))",{"$nulls":15},{"$f":"'Данные'!B13","v":283974628}]
[]
[]
["СНИЛС (по желанию)",{"$nulls":22},{"$f":"'Данные'!B12","v":19191919}]
[]
["ПРЕДСТАВИТЕЛЬ ВЛАДЕЛЬЦА ТРАНСПОРТНОГО СРЕДСТВА"]
[{"$f":"'Данные'!B44","v":"ПЕТРОВ ПЕТР ПЕТРОВИЧ"}]
["(фамилия, имя, отчество (при наличии))"]
["Дата рождения",{"$nulls":31},{"$f":"'Данные'!B45","v":"22.09.1974"},{"$nulls":7},{"$f":"'Данные'!B45","v":"22.09.1974"}]
["Документ, удостоверяющий личность",{"$nulls":31},{"$f":"'Данные'!B47","v":"ПАСПОРТ"},{"$nulls":11},{"$f":"'Данные'!B48","v":"9393 1222333"}]
["Адрес регистрации по месту жительства",{"$nulls":31},{"$f":"'Данные'!B49","v":"г. Санкт-Петербург, ул. Иванова, д. 28, кв. 11"}]
["(пребывания)/адрес (для ЮЛ)"]
["Номер телефона",{"$nulls":31},{"$f":"'Данные'!B50","v":"7 777 333 1212"}]
["Доверенность (в случае необходимости)",{"$nulls":31},{"$f":"'Данные'!B56","v":999999999},{"$nulls":15},"от",null,null,{"$f":"'Данные'!B57","v":"2043-12-12"}]
[]
[]
[null,"(Дата подачи заявления)",{"$nulls":14},"(подпись)",{"$nulls":13},"(фамилия, имя, отчество (при наличии))"]
[]
["СВЕДЕНИЯ О ТРАНСПОРТНОМ СРЕДСТВЕ"]
["Государственный",{"$nulls":12},{"$f":"'Данные'!B21","v":"А000АА24"},{"$nulls":13},"Кузов (кабина,\nприцеп) №",{"$nulls":13},{"$f":"'Данные'!B32","v":832748923},{"$nulls":12},"Результат\nосмотра"]
["регистрационный"]
["номер"]
["Идентификационный",{"$nulls":12},{"$f":"'Данные'!B22","v":190238409284839},{"$nulls":13},"Тип привода",{"$nulls":13},{"$f":"'Данные'!B33","v":"ПЕРЕДНИЙ"},{"$nulls":12},"«соответствует»\nили «не\nсоответствует»\n"]
["номер (VIN)"]
["Модель, марка",{"$nulls":12},{"$f":"'Данные'!B23","v":"ВАЗ-2101"},{"$nulls":13},"Тип двигателя",{"$nulls":13},{"$f":"'Данные'!B34","v":"бензин"}]
["Тип транспортного",{"$nulls":12},{"$f":"'Данные'!B24","v":"легковой"},{"$nulls":13},"Тип трансмиссии",{"$nulls":13},{"$f":"'Данные'!B35","v":"автомат"}]
["средства"]
["Цвет",{"$nulls":12},{"$f":"'Данные'!B25","v":"красный"},{"$nulls":13},"Рулевое расположение",{"$nulls":13},{"$f":"'Данные'!B36","v":"СПРАВА"}]
["Категория (А, В, С, D,\nприцеп — Е)",{"$nulls":12},{"$f":"'Данные'!B26","v":"В1"},{"$nulls":13},"Технически допустимая масса\nмаксимальная масса, кг",{"$nulls":13},{"$f":"'Данные'!B37","v":2304929}]
[]
["Год выпуска",{"$nulls":12},{"$f":"'Данные'!B27","v":1972},{"$nulls":13},"Масса в снаряженном\nсостоянии, кг",{"$nulls":13},{"$f":"'Данные'!B38","v":1800}]
[]
["Шасси (рама) №",{"$nulls":12},{"$f":"'Данные'!B28","v":"Ж8539493878"},{"$nulls":13},"Модель двигателя",{"$nulls":13},{"$f":"'Данные'!B39","v":"ХТФ0407"}]
["Регистрационный\nдокумент транс-\nпортного средства",{"$nulls":12},{"$f":"'Данные'!B29","v":"СТС"},{"$nulls":13},"Двигатель №",{"$nulls":13},{"$f":"'Данные'!B40","v":2397983873}]
[{"$nulls":13},{"$f":"'Данные'!B30","v":"0 000000000"},{"$nulls":13},"Паспорт транспортного\nсредства",{"$nulls":13},{"$f":"'Данные'!B41","v":"879349879879283497879"}]
[{"$nulls":13},"выданный",{"$nulls":7},{"$f":"'Данные'!B31","v":"1988-01-01"}]
[]
[null,"(время, дата осмотра)",{"$nulls":14},"(подпись)",{"$nulls":13},"(фамилия, инициалы сотрудника)"]
[]
["ВНЕСЕННЫЕ В КОНСТ-\nРУКЦИЮ ТРАНСПОРТНОГО\nСРЕДСТВА ИЗМЕНЕНИЯ"]
[]
[]
[]
[null,"(дата)",{"$nulls":14},"(подпись)",{"$nulls":13},"(фамилия, инициалы сотрудника)"]
[]
["ПРОВЕРКИ ПО\nАВТОМАТИЗИРОВАННЫМ УЧЕТАМ,\nМЕЖВЕДОМСТВЕННЫЕ ЗАПРОСЫ"]
[]
[]
[]
[null,"(дата)",{"$nulls":14},"(подпись)",{"$nulls":13},"(фамилия, инициалы сотрудника)"]
[]
["РЕШЕНИЕ ПО ЗАЯВЛЕНИЮ"]
[]
[null,"(дата)",{"$nulls":14},"(подпись)",{"$nulls":13},"(фамилия, инициалы сотрудника)"]
[]
["РЕШЕНИЕ О ВОЗМОЖНОСТИ\nНАНЕСЕНИЯ ДОПОЛНИТЕЛЬНОЙ\nМАРКИРОВКИ"]
[]
[]
[]
[null,"(дата)",{"$nulls":14},"(подпись)",{"$nulls":13},"(фамилия, инициалы сотрудника)"]
[]
["ПРИНЯТЫ ОТ ЗАЯВИТЕЛЯ"]
["Государственные регистрационные знаки"]
["Паспорт транспортного средства (серия, №)"]
["Документ, удостоверяющий право собственности"]
["Страховой полис (№, когда и кем выдан)"]
["Иные документы, представленные заявителем"]
["Квитанции № (при наличии)"]
[]
[null,"(дата)",{"$nulls":14},"(подпись)",{"$nulls":13},"(фамилия, инициалы сотрудника)"]
[]
["ВЫДАНЫ ЗАЯВИТЕЛЮ (ПРИСВОЕНЫ ТРАНСПОРТНОМУ СРЕДСТВУ)"]
["Свидетельство о регистрации (серия, №)"]
["Регистрационные знаки или «ТРАНЗИТ»"]
["Паспорт транспортного средства (серия, №)"]
["Иные документы"]
[]
[null,"(подпись заявителя в получении)",{"$nulls":37},"(фамилия, инициалы заявителя)"]
[]
["(должность)",{"$nulls":18},"(подпись)",{"$nulls":10},"(фамилия, инициалы сотрудника)",{"$nulls":22},"(дата)"]

{"sheet":"Заявление в ГИБДД от организаци","index":2,"n_rows":99,"n_cols":64,"rows_kept":99,"cut":false,"hidden":false,"merged":[[52,0,54,12],[52,13,52,26],[53,13,53,26],[54,13,54,20],[54,21,54,26],[54,41,54,53],[55,30,55,62],[56,30,56,62],[39,0,39,12],[41,13,42,26],[41,27,42,40],[41,41,42,53],[41,54,54,63],[43,41,43,53],[44,41,45,53],[40,0,40,12],[45,0,45,12],[49,0,50,12],[49,13,50,26],[49,27,50,40],[49,41,50,53],[51,0,51,12],[51,13,51,26],[51,27,51,40],[51,41,51,53],[52,27,52,40],[52,41,52,53],[68,30,68,62],[70,29,70,63],[92,0,92,28],[93,0,93,28],[94,0,94,28],[87,1,87,13],[88,1,88,13],[88,16,88,27],[90,0,90,63],[91,0,91,28],[91,29,91,63],[92,29,92,63],[61,30,61,62],[62,30,62,62],[64,0,66,28],[64,29,66,63],[67,1,67,13],[67,30,67,62],[68,1,68,13],[71,30,71,62],[72,30,72,62],[74,29,76,63],[77,30,77,62],[78,30,78,62],[67,16,67,27],[68,16,68,27],[70,0,70,28],[71,1,71,13],[71,16,71,27],[72,1,72,13],[72,16,72,27],[82,29,82,63],[83,29,83,63],[84,29,84,63],[85,29,85,63],[86,29,86,63],[87,30,87,62],[88,30,88,62],[74,0,76,28],[77,1,77,13],[77,16,77,27],[78,1,78,13],[78,16,78,27],[80,0,80,63],[81,29,81,63],[81,0,81,28],[82,0,82,28],[83,0,83,28],[84,0,84,28],[85,0,85,28],[86,0,86,28],[87,16,87,27],[97,0,97,18],[98,0,98,18],[98,19,98,29],[98,30,98,52],[98,53,98,63],[22,0,22,22],[22,23,22,63],[24,0,24,63],[25,0,25,63],[26,0,26,63],[27,32,27,39],[27,40,27,63],[27,0,27,31],[28,0,28,31],[28,32,28,43],[28,44,28,63],[29,0,29,31],[29,32,30,63],[30,0,30,31],[34,16,34,27],[34,30,34,62],[31,0,31,31],[31,32,31,63],[32,0,32,31],[32,32,32,47],[32,48,32,50],[32,51,32,63],[34,1,34,13],[38,41,40,53],[38,54,40,63],[35,1,35,13],[35,16,35,27],[35,30,35,62],[37,0,37,63],[38,0,38,12],[38,13,40,26],[38,27,40,40],[0,12,0,20],[0,33,0,62],[1,2,1,62],[2,2,2,62],[3,27,3,63],[4,8,4,62],[5,8,5,62],[6,0,6,63],[9,0,9,63],[10,8,10,62],[11,8,12,62],[13,0,13,31],[13,32,13,39],[13,40,13,63],[14,0,14,31],[14,32,14,43],[14,44,14,63],[15,0,15,31],[15,32,16,63],[16,0,16,31],[17,0,17,11],[19,32,21,34],[19,35,21,37],[19,38,21,53],[19,54,21,63],[17,12,18,31],[17,32,17,43],[17,44,18,63],[18,0,18,11],[18,32,18,43],[19,0,21,11],[19,12,21,31],[42,0,42,12],[43,0,43,12],[43,13,43,26],[43,27,43,40],[41,0,41,12],[44,0,44,12],[44,13,45,26],[44,27,45,40],[46,0,46,12],[46,13,46,26],[46,27,46,40],[46,41,46,53],[47,0,48,12],[47,13,48,26],[47,27,48,40],[47,41,48,53],[58,0,60,22],[61,1,61,13],[61,16,61,27],[62,1,62,13],[62,16,62,27],[53,27,54,40],[53,41,53,53],[55,1,55,13],[55,16,55,27],[56,1,56,13],[56,16,56,27],[58,23,60,63],[97,19,97,29],[97,30,97,52],[93,29,93,63],[94,29,94,63],[95,1,95,24],[95,39,95,62],[96,1,96,24],[96,39,96,62],[97,53,97,63]]}
["ЗАЯВЛЕНИЕ №",{"$nulls":20},"В Госавтоинспекцию"]
["Я,",null,{"$f":"A26","v":"ПЕТРОВ ПЕТР ПЕТРОВИЧ"},{"$nulls":60},","]
[null,null,"(фамилия, имя, отчество (при наличии))"]
["представляя нижеследующие документы, прошу:"]
["Предоставить",{"$nulls":7},"зарегистрировать автомобиль"]
[{"$nulls":8},"(описание услуги)"]
[]
[]
[]
["СВЕДЕНИЯ О ВЛАДЕЛЬЦЕ ТРАНСПОРТНОГО СРЕДСТВА"]
["Собственник",{"$nulls":7},"ООО \"Юг и Север\" "]
[{"$nulls":8},"фамилия, имя, отчество (при наличии), полное или сокращенное (при наличии) \nнаименование юридического лица (далее — ЮЛ)"]
[]
["Дата и место рождения"]
["Документ, удостоверяющий личность"]
["Адрес регистрации по месту жительства (пребывания)",{"$nulls":31},"6680099, г. Тверь, ул. Иванова 21 оф. 21"]
["физического лица или адрес в пределах места нахождения ЮЛ"]
["Номер",{"$nulls":11},{"$f":"'Данные'!B10","v":799633800000},{"$nulls":19},"Электронная почта",{"$nulls":11},{"$f":"'Данные'!B15","v":"аа@mail.ru"}]
["телефона",{"$nulls":31},"(при наличии)"]
["Гражданство",{"$nulls":31},"Пол",{"$nulls":5},"Идентификационный номер\nналогоплательщика (для\nфизических лиц (при наличии))"]
[]
[]
["СНИЛС (по желанию)"]
[]
["ПРЕДСТАВИТЕЛЬ ВЛАДЕЛЬЦА ТРАНСПОРТНОГО СРЕДСТВА"]
[{"$f":"'Данные'!B44","v":"ПЕТРОВ ПЕТР ПЕТРОВИЧ"}]
["(фамилия, имя, отчество (при наличии))"]
["Дата рождения",{"$nulls":31},{"$f":"'Данные'!B45","v":"22.09.1974"},{"$nulls":7},{"$f":"'Данные'!B45","v":"22.09.1974"}]
["Документ, удостоверяющий личность",{"$nulls":31},{"$f":"'Данные'!B47","v":"ПАСПОРТ"},{"$nulls":11},{"$f":"'Данные'!B48","v":"9393 1222333"}]
["Адрес регистрации по месту жительства",{"$nulls":31},{"$f":"'Данные'!B49","v":"г. Санкт-Петербург, ул. Иванова, д. 28, кв. 11"}]
["(пребывания)/адрес (для ЮЛ)"]
["Номер телефона",{"$nulls":31},{"$f":"'Данные'!B50","v":"7 777 333 1212"}]
["Доверенность (в случае необходимости)",{"$nulls":31},{"$f":"'Данные'!B56","v":999999999},{"$nulls":15},"от",null,null,{"$f":"TODAY()","v":"2026-05-18"}]
[]
[]
[null,"(Дата подачи заявления)",{"$nulls":14},"(подпись)",{"$nulls":13},"(фамилия, имя, отчество (при наличии))"]
[]
["СВЕДЕНИЯ О ТРАНСПОРТНОМ СРЕДСТВЕ"]
["Государственный",{"$nulls":12},{"$f":"'Данные'!B21","v":"А000АА24"},{"$nulls":13},"Кузов (кабина,\nприцеп) №",{"$nulls":13},{"$f":"'Данные'!B32","v":832748923},{"$nulls":12},"Результат\nосмотра"]
["регистрационный"]
["номер"]
["Идентификационный",{"$nulls":12},{"$f":"'Данные'!B22","v":190238409284839},{"$nulls":13},"Тип привода",{"$nulls":13},{"$f":"'Данные'!B33","v":"ПЕРЕДНИЙ"},{"$nulls":12},"«соответствует»\nили «не\nсоответствует»\n"]
["номер (VIN)"]
["Модель, марка",{"$nulls":12},{"$f":"'Данные'!B23","v":"ВАЗ-2101"},{"$nulls":13},"Тип двигателя",{"$nulls":13},{"$f":"'Данные'!B34","v":"бензин"}]
["Тип транспортного",{"$nulls":12},{"$f":"'Данные'!B24","v":"легковой"},{"$nulls":13},"Тип трансмиссии",{"$nulls":13},{"$f":"'Данные'!B35","v":"автомат"}]
["средства"]
["Цвет",{"$nulls":12},{"$f":"'Данные'!B25","v":"красный"},{"$nulls":13},"Рулевое расположение",{"$nulls":13},{"$f":"'Данные'!B36","v":"СПРАВА"}]
["Категория (А, В, С, D,\nприцеп — Е)",{"$nulls":12},{"$f":"'Данные'!B26","v":"В1"},{"$nulls":13},"Технически допустимая масса\nмаксимальная масса, кг",{"$nulls":13},{"$f":"'Данные'!B37","v":2304929}]
[]
["Год выпуска",{"$nulls":12},{"$f":"'Данные'!B27","v":1972},{"$nulls":13},"Масса в снаряженном\nсостоянии, кг",{"$nulls":13},{"$f":"'Данные'!B38","v":1800}]
[]
["Шасси (рама) №",{"$nulls":12},{"$f":"'Данные'!B28","v":"Ж8539493878"},{"$nulls":13},"Модель двигателя",{"$nulls":13},{"$f":"'Данные'!B39","v":"ХТФ0407"}]
["Регистрационный\nдокумент транс-\nпортного средства",{"$nulls":12},{"$f":"'Данные'!B29","v":"СТС"},{"$nulls":13},"Двигатель №",{"$nulls":13},{"$f":"'Данные'!B40","v":2397983873}]
[{"$nulls":13},{"$f":"'Данные'!B30","v":"0 000000000"},{"$nulls":13},"Паспорт транспортного\nсредства",{"$nulls":13},{"$f":"'Данные'!B41","v":"879349879879283497879"}]
[{"$nulls":13},"выданный",{"$nulls":7},{"$f":"'Данные'!B31","v":"1988-01-01"}]
[]
[null,"(время, дата осмотра)",{"$nulls":14},"(подпись)",{"$nulls":13},"(фамилия, инициалы сотрудника)"]
[]
["ВНЕСЕННЫЕ В КОНСТ-\nРУКЦИЮ ТРАНСПОРТНОГО\nСРЕДСТВА ИЗМЕНЕНИЯ"]
[]
[]
[]
[null,"(дата)",{"$nulls":14},"(подпись)",{"$nulls":13},"(фамилия, инициалы сотрудника)"]
[]
["ПРОВЕРКИ ПО\nАВТОМАТИЗИРОВАННЫМ УЧЕТАМ,\nМЕЖВЕДОМСТВЕННЫЕ ЗАПРОСЫ"]
[]
[]
[]
[null,"(дата)",{"$nulls":14},"(подпись)",{"$nulls":13},"(фамилия, инициалы сотрудника)"]
[]
["РЕШЕНИЕ ПО ЗАЯВЛЕНИЮ"]
[]
[null,"(дата)",{"$nulls":14},"(подпись)",{"$nulls":13},"(фамилия, инициалы сотрудника)"]
[]
["РЕШЕНИЕ О ВОЗМОЖНОСТИ\nНАНЕСЕНИЯ ДОПОЛНИТЕЛЬНОЙ\nМАРКИРОВКИ"]
[]
[]
[]
[null,"(дата)",{"$nulls":14},"(подпись)",{"$nulls":13},"(фамилия, инициалы сотрудника)"]
[]
["ПРИНЯТЫ ОТ ЗАЯВИТЕЛЯ"]
["Государственные регистрационные знаки"]
["Паспорт транспортного средства (серия, №)"]
["Документ, удостоверяющий право собственности"]
["Страховой полис (№, когда и кем выдан)"]
["Иные документы, представленные заявителем"]
["Квитанции № (при наличии)"]
[]
[null,"(дата)",{"$nulls":14},"(подпись)",{"$nulls":13},"(фамилия, инициалы сотрудника)"]
[]
["ВЫДАНЫ ЗАЯВИТЕЛЮ (ПРИСВОЕНЫ ТРАНСПОРТНОМУ СРЕДСТВУ)"]
["Свидетельство о регистрации (серия, №)"]
["Регистрационные знаки или «ТРАНЗИТ»"]
["Паспорт транспортного средства (серия, №)"]
["Иные документы"]
[]
[null,"(подпись заявителя в получении)",{"$nulls":37},"(фамилия, инициалы заявителя)"]
[]
["(должность)",{"$nulls":18},"(подпись)",{"$nulls":10},"(фамилия, инициалы сотрудника)",{"$nulls":22},"(дата)"]

{"sheet":"Договор дарения","index":3,"n_rows":52,"n_cols":64,"rows_kept":52,"cut":false,"hidden":false,"merged":[[0,0,0,63],[1,3,1,14],[1,55,1,63],[2,4,2,62],[3,0,3,31],[3,32,3,39],[3,40,3,63],[4,0,4,31],[4,32,4,43],[4,44,4,63],[5,0,5,31],[5,32,6,63],[6,0,6,31],[7,0,7,11],[7,44,7,63],[8,0,8,11],[9,0,9,22],[7,12,7,31],[7,32,7,43],[8,12,8,31],[8,32,8,34],[8,35,8,37],[8,38,8,53],[8,54,8,63],[13,32,13,43],[13,44,13,63],[9,23,9,63],[10,0,10,63],[11,4,11,62],[12,0,12,31],[12,32,12,39],[12,40,12,63],[13,0,13,31],[14,0,14,31],[14,32,15,63],[15,0,15,31],[16,0,16,11],[16,12,16,31],[16,32,16,43],[16,44,16,63],[30,0,30,12],[30,13,30,26],[30,27,30,40],[30,41,30,63],[31,13,31,26],[31,27,31,40],[31,41,31,63],[34,27,34,40],[34,41,34,63],[35,13,35,26],[35,27,36,40],[36,13,36,20],[36,21,36,26],[35,41,35,63],[36,41,36,63],[31,0,31,12],[32,0,32,12],[32,13,32,26],[32,27,32,40],[32,41,32,63],[33,0,33,12],[34,0,36,12],[37,0,37,21],[37,22,37,63],[38,0,38,63],[39,0,39,63],[44,0,44,63],[45,0,45,63],[46,0,46,27],[49,0,50,13],[51,0,51,13],[46,28,46,63],[47,0,47,63],[48,0,48,27],[48,28,48,63],[49,14,50,27],[49,28,50,44],[49,45,50,63],[51,28,51,44],[17,0,17,11],[17,12,17,31],[17,32,17,34],[17,35,17,37],[17,38,17,53],[17,54,17,63],[18,0,18,22],[18,23,18,63],[19,0,19,63],[20,0,20,63],[21,0,21,63],[22,0,22,47],[22,48,22,63],[23,0,23,12],[26,27,27,40],[26,41,27,63],[28,41,28,63],[29,41,29,63],[23,13,25,26],[23,27,25,40],[23,41,25,63],[24,0,24,12],[25,0,25,12],[26,0,26,12],[26,13,27,26],[27,0,27,12],[28,0,28,12],[28,13,28,26],[28,27,28,40],[29,0,29,12],[29,13,29,26],[29,27,29,40],[33,27,33,40],[33,41,33,63],[33,13,33,26],[34,13,34,26]]}
["ДОГОВОР ДАРЕНИЯ"]
["г. ",{"$nulls":54},{"$f":"TODAY()","v":"2026-05-18"}]
["Мы,",null,null,null,{"$f":"'Данные'!B4","v":"Иванов Валентин Иванович"},{"$nulls":58},","]
["Дата и место рождения",{"$nulls":31},{"$f":"'Данные'!B5","v":"22.09.1944"},{"$nulls":7},{"$f":"'Данные'!B6","v":"г. Москва"}]
["Документ, удостоверяющий личность",{"$nulls":31},{"$f":"'Данные'!B7","v":"ПАСПОРТ"},{"$nulls":11},{"$f":"'Данные'!B8","v":"9393 123245"}]
["Адрес регистрации по месту жительства (пребывания)",{"$nulls":31},{"$f":"'Данные'!B9","v":"г. Москва, ул. Пушкина, д. 34а"}]
[]
["Номер телефона",{"$nulls":11},{"$f":"'Данные'!B10","v":799633800000},{"$nulls":19},"Электронная почта",{"$nulls":11},{"$f":"'Данные'!B15","v":"аа@mail.ru"}]
["Гражданство",{"$nulls":11},{"$f":"'Данные'!B11","v":"Россия"},{"$nulls":19},"Пол",null,null,{"$f":"'Данные'!B14","v":"М"},null,null,"ИНН",{"$nulls":15},{"$f":"'Данные'!B13","v":283974628}]
["СНИЛС (по желанию)",{"$nulls":22},{"$f":"'Данные'!B12","v":19191919}]
["именуемый в дальнейшем ДАРИТЕЛЬ"]
["и ",null,null,null,{"$f":"'Данные'!B59","v":"Иванов Сергей Иванович"},{"$nulls":58},","]
["Дата и место рождения",{"$nulls":31},{"$f":"'Данные'!B60","v":"01.01.1986"},{"$nulls":7},{"$f":"'Данные'!B61","v":"г. Новосибирск "}]
["Документ, удостоверяющий личность",{"$nulls":31},{"$f":"'Данные'!B62","v":"ПАСПОРТ"},{"$nulls":11},{"$f":"'Данные'!B63","v":"9393 155524"}]
["Адрес регистрации по месту жительства (пребывания)",{"$nulls":31},{"$f":"'Данные'!B64","v":"Новосибирск, ул. Ленина, д. 99б, кв. 1"}]
[]
["Номер телефона",{"$nulls":11},{"$f":"'Данные'!B65","v":79963381299},{"$nulls":19},"Электронная почта",{"$nulls":11},{"$f":"'Данные'!B70","v":"pp74@mail.ru"}]
["Гражданство",{"$nulls":11},{"$f":"'Данные'!B66","v":"Россия"},{"$nulls":19},"пол",null,null,{"$f":"'Данные'!B69","v":"М"},null,null,"ИНН",{"$nulls":15},{"$f":"'Данные'!B68","v":283974628}]
["СНИЛС (по желанию)",{"$nulls":22},{"$f":"'Данные'!B67","v":19191919}]
["именуемый в дальнейшем ОДАРЯЕМЫЙ"]
["заключили договор"]
["предмет договора:"]
["Даритель безвозмездно передает в собственность Одаряемого ",{"$nulls":47},"автомобиль"]
["Государственный",{"$nulls":12},{"$f":"'Данные'!B21","v":"А000АА24"},{"$nulls":13},"Кузов (кабина,\nприцеп) №",{"$nulls":13},{"$f":"'Данные'!B32","v":832748923}]
["регистрационный"]
["номер"]
["Идентификационный",{"$nulls":12},{"$f":"'Данные'!B22","v":190238409284839},{"$nulls":13},"Тип привода",{"$nulls":13},{"$f":"'Данные'!B33","v":"ПЕРЕДНИЙ"}]
["номер (VIN)"]
["Модель, марка",{"$nulls":12},{"$f":"'Данные'!B23","v":"ВАЗ-2101"},{"$nulls":13},"Тип двигателя",{"$nulls":13},{"$f":"'Данные'!B34","v":"бензин"}]
["Тип ТС",{"$nulls":12},{"$f":"'Данные'!B24","v":"легковой"},{"$nulls":13},"Тип трансмиссии",{"$nulls":13},{"$f":"'Данные'!B35","v":"автомат"}]
["Цвет",{"$nulls":12},{"$f":"'Данные'!B25","v":"красный"},{"$nulls":13},"Рулевое расположение",{"$nulls":13},{"$f":"'Данные'!B36","v":"СПРАВА"}]
["Категория (А, В, С, D,\nприцеп — Е)",{"$nulls":12},{"$f":"'Данные'!B26","v":"В1"},{"$nulls":13},"Технически допустимая масса\nмаксимальная масса, кг",{"$nulls":13},{"$f":"'Данные'!B37","v":2304929}]
["Год выпуска",{"$nulls":12},{"$f":"'Данные'!B27","v":1972},{"$nulls":13},"Масса в снаряженном\nсостоянии, кг",{"$nulls":13},{"$f":"'Данные'!B38","v":1800}]
["Шасси (рама) №",{"$nulls":12},{"$f":"'Данные'!B28","v":"Ж8539493878"},{"$nulls":13},"Модель двигателя",{"$nulls":13},{"$f":"'Данные'!B39","v":"ХТФ0407"}]
["Регистрационный\nдокумент транс-\nпортного средства",{"$nulls":12},{"$f":"'Данные'!B29","v":"СТС"},{"$nulls":13},"Двигатель №",{"$nulls":13},{"$f":"'Данные'!B40","v":2397983873}]
[{"$nulls":13},{"$f":"'Данные'!B30","v":"0 000000000"},{"$nulls":13},"Паспорт транспортного\nсредства",{"$nulls":13},{"$f":"'Данные'!B41","v":"879349879879283497879"}]
[{"$nulls":13},"выданный",{"$nulls":7},{"$f":"'Данные'!B31","v":"1988-01-01"}]
["Рыночная стоимость автомобиля"]
["Даритель гарантирует, что автомобиль не в залоге и не под арестом\n"]
["Даритель помимо автомобиля передает Одаряемому ключи, а также:"]
[]
[]
[]
[]
["Договор составлен в трех экземплярах: по одному каждой стороне и один для ГИБДД\n"]
["Стороны в курсе статей 209, 210, 572—574 ГК РФ и понимают последствия подписания Договора."]
["Степень родства дарителя и одаряемого",{"$nulls":27},"бабушка и внук"]
["ПОДПИСИ СТОРОН"]
["Даритель\n",{"$nulls":27},"Одаряемый\n"]
[{"$nulls":14},{"$f":"E3","v":"Иванов Валентин Иванович"},{"$nulls":30},{"$f":"E12","v":"Иванов Сергей Иванович"}]
[]
["подпись",{"$nulls":27},"подпись"]

{"sheet":"Договор аренды","index":4,"n_rows":46,"n_cols":64,"rows_kept":46,"cut":false,"hidden":false,"merged":[[0,0,0,63],[1,3,1,14],[1,55,1,63],[2,4,2,62],[3,0,3,31],[3,32,3,39],[3,40,3,63],[4,0,4,31],[4,32,4,43],[4,44,4,63],[5,0,5,31],[5,32,6,63],[6,0,6,31],[7,0,7,11],[7,44,7,63],[8,0,8,11],[9,0,9,22],[7,12,7,31],[7,32,7,43],[8,12,8,31],[8,32,8,34],[8,35,8,37],[8,38,8,53],[8,54,8,63],[13,32,13,43],[13,44,13,63],[9,23,9,63],[10,0,10,63],[11,4,11,62],[12,0,12,31],[12,32,12,39],[12,40,12,63],[13,0,13,31],[14,0,14,31],[14,32,15,63],[15,0,15,31],[16,0,16,11],[16,12,16,31],[16,32,16,43],[16,44,16,63],[28,0,28,12],[28,13,28,26],[28,27,28,40],[28,41,28,63],[29,13,29,26],[29,27,29,40],[29,41,29,63],[29,0,29,12],[30,0,30,12],[30,13,30,26],[30,27,30,40],[30,41,30,63],[31,0,31,12],[31,13,31,26],[33,41,33,63],[34,41,34,63],[35,13,35,20],[35,21,35,26],[36,0,36,21],[37,0,37,21],[38,0,38,21],[32,0,32,12],[32,13,32,26],[32,27,32,40],[32,41,32,63],[33,0,35,12],[33,27,33,40],[34,27,35,40],[42,0,42,27],[42,28,42,63],[43,0,44,13],[43,14,44,27],[43,28,44,44],[43,45,44,63],[45,0,45,13],[45,28,45,44],[35,41,35,63],[36,22,36,63],[37,22,37,63],[38,22,38,63],[39,0,39,63],[40,0,40,63],[41,0,41,63],[17,0,17,11],[17,12,17,31],[17,32,17,34],[17,35,17,37],[17,38,17,53],[17,54,17,63],[18,0,18,22],[22,27,24,40],[22,41,24,63],[25,41,26,63],[18,23,18,63],[19,0,19,63],[20,0,20,63],[21,0,21,47],[21,48,21,63],[22,0,22,12],[22,13,24,26],[27,13,27,26],[27,27,27,40],[27,41,27,63],[23,0,23,12],[24,0,24,12],[25,0,25,12],[25,13,26,26],[25,27,26,40],[26,0,26,12],[27,0,27,12],[31,27,31,40],[31,41,31,63],[33,13,33,26],[34,13,34,26]]}
["ДОГОВОР АРЕНДЫ АВТОМОБИЛЯ"]
["г. ",{"$nulls":54},{"$f":"TODAY()","v":"2026-05-18"}]
["Мы,",null,null,null,{"$f":"'Данные'!B4","v":"Иванов Валентин Иванович"},{"$nulls":58},","]
["Дата и место рождения",{"$nulls":31},{"$f":"'Данные'!B5","v":"22.09.1944"},{"$nulls":7},{"$f":"'Данные'!B6","v":"г. Москва"}]
["Документ, удостоверяющий личность",{"$nulls":31},{"$f":"'Данные'!B7","v":"ПАСПОРТ"},{"$nulls":11},{"$f":"'Данные'!B8","v":"9393 123245"}]
["Адрес регистрации по месту жительства (пребывания)",{"$nulls":31},{"$f":"'Данные'!B9","v":"г. Москва, ул. Пушкина, д. 34а"}]
[]
["Номер телефона",{"$nulls":11},{"$f":"'Данные'!B10","v":799633800000},{"$nulls":19},"Электронная почта",{"$nulls":11},{"$f":"'Данные'!B15","v":"аа@mail.ru"}]
["Гражданство",{"$nulls":11},{"$f":"'Данные'!B11","v":"Россия"},{"$nulls":19},"Пол",null,null,{"$f":"'Данные'!B14","v":"М"},null,null,"ИНН",{"$nulls":15},{"$f":"'Данные'!B13","v":283974628}]
["СНИЛС (по желанию)",{"$nulls":22},{"$f":"'Данные'!B12","v":19191919}]
["именуемый в дальнейшем АРЕНДОДАТЕЛЬ"]
["и ",null,null,null,{"$f":"'Данные'!B59","v":"Иванов Сергей Иванович"},{"$nulls":58},","]
["Дата и место рождения",{"$nulls":31},{"$f":"'Данные'!B60","v":"01.01.1986"},{"$nulls":7},{"$f":"'Данные'!B61","v":"г. Новосибирск "}]
["Документ, удостоверяющий личность",{"$nulls":31},{"$f":"'Данные'!B62","v":"ПАСПОРТ"},{"$nulls":11},{"$f":"'Данные'!B63","v":"9393 155524"}]
["Адрес регистрации по месту жительства (пребывания)",{"$nulls":31},{"$f":"'Данные'!B64","v":"Новосибирск, ул. Ленина, д. 99б, кв. 1"}]
[]
["Номер телефона",{"$nulls":11},{"$f":"'Данные'!B65","v":79963381299},{"$nulls":19},"Электронная почта",{"$nulls":11},{"$f":"'Данные'!B70","v":"pp74@mail.ru"}]
["Гражданство",{"$nulls":11},{"$f":"'Данные'!B66","v":"Россия"},{"$nulls":19},"пол",null,null,{"$f":"'Данные'!B69","v":"М"},null,null,"ИНН",{"$nulls":15},{"$f":"'Данные'!B68","v":283974628}]
["СНИЛС (по желанию)",{"$nulls":22},{"$f":"'Данные'!B67","v":19191919}]
["именуемый в дальнейшем АРЕНДАТОР"]
["заключили договор  о нижеследующем"]
["Арендодатель передает в аренду Арендатору ",{"$nulls":47},"автомобиль"]
["Государственный",{"$nulls":12},{"$f":"'Данные'!B21","v":"А000АА24"},{"$nulls":13},"Кузов (кабина,\nприцеп) №",{"$nulls":13},{"$f":"'Данные'!B32","v":832748923}]
["регистрационный"]
["номер"]
["Идентификационный",{"$nulls":12},{"$f":"'Данные'!B22","v":190238409284839},{"$nulls":13},"Тип привода",{"$nulls":13},{"$f":"'Данные'!B33","v":"ПЕРЕДНИЙ"}]
["номер (VIN)"]
["Модель, марка",{"$nulls":12},{"$f":"'Данные'!B23","v":"ВАЗ-2101"},{"$nulls":13},"Тип двигателя",{"$nulls":13},{"$f":"'Данные'!B34","v":"бензин"}]
["Тип ТС",{"$nulls":12},{"$f":"'Данные'!B24","v":"легковой"},{"$nulls":13},"Тип трансмиссии",{"$nulls":13},{"$f":"'Данные'!B35","v":"автомат"}]
["Цвет",{"$nulls":12},{"$f":"'Данные'!B25","v":"красный"},{"$nulls":13},"Рулевое расположение",{"$nulls":13},{"$f":"'Данные'!B36","v":"СПРАВА"}]
["Категория (А, В, С, D,\nприцеп — Е)",{"$nulls":12},{"$f":"'Данные'!B26","v":"В1"},{"$nulls":13},"Технически допустимая масса\nмаксимальная масса, кг",{"$nulls":13},{"$f":"'Данные'!B37","v":2304929}]
["Год выпуска",{"$nulls":12},{"$f":"'Данные'!B27","v":1972},{"$nulls":13},"Масса в снаряженном\nсостоянии, кг",{"$nulls":13},{"$f":"'Данные'!B38","v":1800}]
["Шасси (рама) №",{"$nulls":12},{"$f":"'Данные'!B28","v":"Ж8539493878"},{"$nulls":13},"Модель двигателя",{"$nulls":13},{"$f":"'Данные'!B39","v":"ХТФ0407"}]
["Регистрационный\nдокумент транс-\nпортного средства",{"$nulls":12},{"$f":"'Данные'!B29","v":"СТС"},{"$nulls":13},"Двигатель №",{"$nulls":13},{"$f":"'Данные'!B40","v":2397983873}]
[{"$nulls":13},{"$f":"'Данные'!B30","v":"0 000000000"},{"$nulls":13},"Паспорт транспортного\nсредства",{"$nulls":13},{"$f":"'Данные'!B41","v":"879349879879283497879"}]
[{"$nulls":13},"выданный",{"$nulls":7},{"$f":"'Данные'!B31","v":"1988-01-01"}]
["Срок аренды",{"$nulls":21},"30 дней"]
["Размер арендной платы",{"$nulls":21},"десять тысяч рублей в месяц"]
["Порядок оплаты",{"$nulls":21},"арендная плата не позднее 1 числа каждого месяца переводится арендодателю банковским переводом  через систему быстрых платежей, на номер телефона 79968881234"]
["Дополнительные условия: арендатору запрещено  использовать автомобиль как такси и выезжать за пределы административных границ  Москвы. Арендатор обязан возместить арендодателю суммы штрафов за совершённые арендатором административные правонарушения, АПН, в течение трёх дней после получения от арендодателя копий постановлений об АПН. Любые неисправности, возникшие в автомобиле в период аренды, арендатор устраняет за ваш счёт. "]
["Договор составлен в двух экземплярах: по одному каждой стороне"]
["ПОДПИСИ СТОРОН"]
["Арендодатель\n",{"$nulls":27},"Арендатор"]
[{"$nulls":14},{"$f":"E3","v":"Иванов Валентин Иванович"},{"$nulls":30},{"$f":"E12","v":"Иванов Сергей Иванович"}]
[]
["подпись",{"$nulls":27},"подпись"]

{"sheet":"ДОВЕРЕННОСТЬ","index":5,"n_rows":41,"n_cols":64,"rows_kept":41,"cut":false,"hidden":false,"merged":[[16,13,16,26],[16,27,16,40],[17,0,17,12],[17,13,17,26],[17,27,17,40],[17,41,17,63],[18,0,18,12],[18,41,18,63],[18,13,18,26],[18,27,18,40],[19,0,19,12],[19,13,19,26],[19,27,19,40],[19,41,19,63],[20,0,20,12],[20,41,20,63],[0,0,0,63],[1,3,1,14],[1,55,1,63],[2,4,2,62],[3,0,3,31],[3,32,3,39],[3,40,3,63],[4,0,4,31],[4,32,4,43],[4,44,4,63],[5,0,5,31],[5,32,6,63],[6,0,6,31],[7,0,7,11],[7,44,7,63],[9,23,9,63],[10,0,10,63],[7,12,7,31],[7,32,7,43],[8,12,8,31],[8,32,8,34],[8,35,8,37],[8,38,8,53],[8,54,8,63],[8,0,8,11],[9,0,9,22],[11,0,11,12],[11,13,13,26],[11,27,13,40],[11,41,13,63],[12,0,12,12],[13,0,13,12],[14,0,14,12],[14,13,15,26],[14,27,15,40],[14,41,15,63],[15,0,15,12],[16,0,16,12],[16,41,16,63],[22,13,22,26],[22,27,22,40],[32,0,32,11],[32,12,32,31],[32,32,32,34],[32,35,32,37],[32,38,32,53],[32,54,32,63],[33,0,33,22],[36,0,36,17],[38,0,39,13],[40,0,40,13],[38,14,39,63],[40,28,40,44],[33,23,33,63],[34,0,34,63],[35,0,35,11],[35,12,35,63],[36,18,36,63],[37,0,37,27],[37,28,37,63],[21,13,21,26],[23,13,23,26],[22,41,22,63],[23,41,23,63],[24,13,24,20],[24,21,24,26],[20,13,20,26],[20,27,20,40],[21,0,21,12],[21,27,21,40],[21,41,21,63],[22,0,24,12],[23,27,24,40],[28,32,28,43],[28,44,28,63],[24,41,24,63],[25,0,25,63],[26,0,26,63],[27,0,27,31],[27,32,27,39],[27,40,27,63],[28,0,28,31],[29,0,29,31],[29,32,30,63],[30,0,30,31],[31,0,31,11],[31,12,31,31],[31,32,31,43],[31,44,31,63]]}
["ДОВЕРЕННОСТЬ"]
["г. ",{"$nulls":54},{"$f":"TODAY()","v":"2026-05-18"}]
["Я,",null,null,null,{"$f":"'Данные'!B4","v":"Иванов Валентин Иванович"},{"$nulls":58},","]
["Дата и место рождения",{"$nulls":31},{"$f":"'Данные'!B5","v":"22.09.1944"},{"$nulls":7},{"$f":"'Данные'!B6","v":"г. Москва"}]
["Документ, удостоверяющий личность",{"$nulls":31},{"$f":"'Данные'!B7","v":"ПАСПОРТ"},{"$nulls":11},{"$f":"'Данные'!B8","v":"9393 123245"}]
["Адрес регистрации по месту жительства (пребывания)",{"$nulls":31},{"$f":"'Данные'!B9","v":"г. Москва, ул. Пушкина, д. 34а"}]
[]
["Номер телефона",{"$nulls":11},{"$f":"'Данные'!B10","v":799633800000},{"$nulls":19},"Электронная почта",{"$nulls":11},{"$f":"'Данные'!B15","v":"аа@mail.ru"}]
["Гражданство",{"$nulls":11},{"$f":"'Данные'!B11","v":"Россия"},{"$nulls":19},"Пол",null,null,{"$f":"'Данные'!B14","v":"М"},null,null,"ИНН",{"$nulls":15},{"$f":"'Данные'!B13","v":283974628}]
["СНИЛС ",{"$nulls":22},{"$f":"'Данные'!B12","v":19191919}]
["имея в собственности автомобиль"]
["Государственный",{"$nulls":12},{"$f":"'Данные'!B21","v":"А000АА24"},{"$nulls":13},"Кузов (кабина,\nприцеп) №",{"$nulls":13},{"$f":"'Данные'!B32","v":832748923}]
["регистрационный"]
["номер"]
["Идентификационный",{"$nulls":12},{"$f":"'Данные'!B22","v":190238409284839},{"$nulls":13},"Тип привода",{"$nulls":13},{"$f":"'Данные'!B33","v":"ПЕРЕДНИЙ"}]
["номер (VIN)"]
["Модель, марка",{"$nulls":12},{"$f":"'Данные'!B23","v":"ВАЗ-2101"},{"$nulls":13},"Тип двигателя",{"$nulls":13},{"$f":"'Данные'!B34","v":"бензин"}]
["Тип ТС",{"$nulls":12},{"$f":"'Данные'!B24","v":"легковой"},{"$nulls":13},"Тип трансмиссии",{"$nulls":13},{"$f":"'Данные'!B35","v":"автомат"}]
["Цвет",{"$nulls":12},{"$f":"'Данные'!B25","v":"красный"},{"$nulls":13},"Рулевое расположение",{"$nulls":13},{"$f":"'Данные'!B36","v":"СПРАВА"}]
["Категория ТС",{"$nulls":12},{"$f":"'Данные'!B26","v":"В1"},{"$nulls":13},"Технически допустимая масса\n",{"$nulls":13},{"$f":"'Данные'!B37","v":2304929}]
["Год выпуска",{"$nulls":12},{"$f":"'Данные'!B27","v":1972},{"$nulls":13},"Масса в снаряженном\nсостоянии, кг",{"$nulls":13},{"$f":"'Данные'!B38","v":1800}]
["Шасси (рама) №",{"$nulls":12},{"$f":"'Данные'!B28","v":"Ж8539493878"},{"$nulls":13},"Модель двигателя",{"$nulls":13},{"$f":"'Данные'!B39","v":"ХТФ0407"}]
["Регистрационный\nдокумент транс-\nпортного средства",{"$nulls":12},{"$f":"'Данные'!B29","v":"СТС"},{"$nulls":13},"Двигатель №",{"$nulls":13},{"$f":"'Данные'!B40","v":2397983873}]
[{"$nulls":13},{"$f":"'Данные'!B30","v":"0 000000000"},{"$nulls":13},"Паспорт транспортного\nсредства",{"$nulls":13},{"$f":"'Данные'!B41","v":"879349879879283497879"}]
[{"$nulls":13},"выданный",{"$nulls":7},{"$f":"'Данные'!B31","v":"1988-01-01"}]
["НАСТОЯЩЕЙ ДОВЕРЕННОСТЬЮ УПОЛНОМАЧИВАЮ ДОВЕРЕННОЕ ЛИЦО - "]
[{"$f":"'Данные'!B44","v":"ПЕТРОВ ПЕТР ПЕТРОВИЧ"}]
["Дата и место рождения",{"$nulls":31},{"$f":"'Данные'!B45","v":"22.09.1974"},{"$nulls":7},{"$f":"'Данные'!B46","v":"г. Санкт-Петербург"}]
["Документ, удостоверяющий личность",{"$nulls":31},{"$f":"'Данные'!B47","v":"ПАСПОРТ"},{"$nulls":11},{"$f":"'Данные'!B48","v":"9393 1222333"}]
["Адрес регистрации по месту жительства (пребывания)",{"$nulls":31},{"$f":"'Данные'!B49","v":"г. Санкт-Петербург, ул. Иванова, д. 28, кв. 11"}]
[]
["Номер телефона",{"$nulls":11},{"$f":"'Данные'!B50","v":"7 777 333 1212"},{"$nulls":19},"Электронная почта",{"$nulls":11},{"$f":"'Данные'!B55","v":"11111@mail.ru"}]
["Гражданство",{"$nulls":11},{"$f":"'Данные'!B51","v":"Россия"},{"$nulls":19},"пол",null,null,{"$f":"'Данные'!B69","v":"М"},null,null,"ИНН",{"$nulls":15},{"$f":"'Данные'!B53","v":1234567890}]
["СНИЛС (по желанию)",{"$nulls":22},{"$f":"'Данные'!B52","v":1234567890}]
["подавать заявления и иные документы в ГИБДД и страховые компании, управлять автомобилем, \"представлять мои интересы, связанные с автомобилем в ГИБДД\", следить за техническим состоянием автомобиля, проходить техосмотр, оформлять и подписывать договоры страхования, вносить обязательные платежи"]
["Доверенность выдана",{"$nulls":11},"без права передоверия полномочий другим лицам. "]
["Доверенность действует до:"]
["ДОВЕРИТЕЛЬ"]
[{"$nulls":14},{"$f":"E3","v":"Иванов Валентин Иванович"}]
[]
["подпись"]

{"sheet":"ЖАЛОБА","index":6,"n_rows":41,"n_cols":55,"rows_kept":41,"cut":false,"hidden":false,"merged":[[22,0,22,28],[22,29,22,63],[23,0,23,63],[24,0,24,63],[25,0,25,63],[26,0,26,63],[27,0,27,63],[34,0,34,7],[34,8,34,63],[38,0,39,13],[38,14,39,63],[40,0,40,13],[40,28,40,44],[28,0,28,63],[30,0,30,63],[31,0,31,63],[32,0,32,7],[32,8,32,63],[33,0,33,7],[33,8,33,63],[0,27,0,63],[1,27,1,63],[2,27,2,63],[3,27,3,40],[3,41,3,47],[3,48,3,63],[4,27,4,35],[8,54,8,63],[9,54,9,63],[4,36,4,63],[5,27,5,63],[6,27,6,63],[7,27,7,51],[7,54,7,63],[8,27,8,51],[9,27,9,51],[10,27,10,63],[11,27,11,34],[11,35,11,45],[11,46,11,53],[11,54,11,63],[12,27,12,51],[12,52,12,63],[17,0,17,7],[18,0,18,7],[20,0,20,5],[13,27,13,51],[13,52,13,63],[14,0,14,63],[15,0,15,63],[16,0,16,7],[16,8,16,63],[17,8,17,63],[18,8,18,63],[19,0,19,63],[20,6,20,63],[21,0,21,21],[21,22,21,26],[21,29,21,40],[21,41,21,63]]}
[{"$nulls":26},"В","Комитет по транспорту по г. Санкт-Петербург                                       Кировский районный суд г. Санкт-Петербург "]
[{"$nulls":27},"Наименование и адрес суда или ведомства, куда подаете жалобу"]
[{"$nulls":26},"От ",{"$f":"'Данные'!B4","v":"Иванов Валентин Иванович"}]
[{"$nulls":27},"Дата и место рождения",{"$nulls":13},{"$f":"'Данные'!B5","v":"22.09.1944"},{"$nulls":6},{"$f":"'Данные'!B6","v":"г. Москва"}]
[{"$nulls":27},{"$f":"'Данные'!B7","v":"ПАСПОРТ"},{"$nulls":8},{"$f":"'Данные'!B8","v":"9393 123245"}]
[{"$nulls":27},"Серия и номер водительского удостоверения"]
[{"$nulls":27},{"$f":"'Данные'!B16","v":"1700 0000000"}]
[{"$nulls":27},"Дата выдачи водительского удостоверения",{"$nulls":26},{"$f":"'Данные'!B17","v":"2023-12-12"}]
[{"$nulls":27},"Подразделение, выдавшее водительское удостоверение",{"$nulls":26},{"$f":"'Данные'!B18","v":"ГИБДД 170000"}]
[{"$nulls":27},"Адрес места жительства"]
[{"$nulls":27},{"$f":"'Данные'!B9","v":"г. Москва, ул. Пушкина, д. 34а"}]
[{"$nulls":27},"СНИЛС",{"$nulls":7},{"$f":"'Данные'!B12","v":19191919},{"$nulls":10},"ИНН",{"$nulls":7},{"$f":"'Данные'!B13","v":283974628}]
[{"$nulls":27},"Телефон",{"$nulls":24},{"$f":"'Данные'!B10","v":799633800000}]
[{"$nulls":27},"Электронная почта",{"$nulls":24},{"$f":"'Данные'!B15","v":"аа@mail.ru"}]
["ЖАЛОБА\nна постановление по делу об административном правонарушении"]
["Постановлением по делу об административном правнарушении"]
["номер",{"$nulls":7},"нет данных о номере"]
["от ",{"$nulls":7},"нет данных  "]
["вынесенным",{"$nulls":7},"Комитетом по транспорту по г. Санкт-Петербург"]
["я был подвергнут административному наказанию "]
["в виде",{"$nulls":5},"штрафа"]
["срок лишения права управлением ТС:",{"$nulls":21},"нет",{"$nulls":6},"Размер штрафа:",{"$nulls":11},3000.0]
["за совершение правонарушения, предусмотренного ст. "]
["Считаю вынесенное постановление неправомерным по следующим причинам:"]
["01.4.2026 меня привлекли к административной ответственности по ст. 37-2 Закона Санкт-Петербурга от 14.06.2010 № 273-10. Сообщаю, что парковку я оплатил, но ошибся в номере, квитанцию прилагаю. Поскольку бюджет города не пострадал, по ст. 2.9 КоАП прошу освободить меня от уплаты штрафа по малозначительности проступка и вынести устное предупреждение\nмалозначительным, и, согласно ст. 2.9 КоАП РФ освободить меня от административной ответственности и ограничиться устным предупреждением. "]
["Доказательства:"]
["Постановление по делу об административном правонарушении                                                                                                         Выписка с банковского счета, подтверждающая факт оплаты услуг платной парковки, подтверждающая оплату парковки с ошибочным номером автомобиля\n"]
["Так же мои доводы могут подтвердить свидетели"]
["нет"]
["В соответствии со ст.ст. 30.1-30.8 КоАП РФ"]
["ПРОШУ"]
["Отменить постановление по делу об административном правонарушении"]
["номер",{"$nulls":7},1.2345678899999E13]
["от ",{"$nulls":7},"2026-05-12"]
["вынесенное",{"$nulls":7},{"$f":"I19","v":"Комитетом по транспорту по г. Санкт-Петербург"}]
["Приложение"]
["1. Копия постановления по делу об административном правонарушении."]
["2. Доказательства, подтверждающие обстоятельства, изложенные в жалобе."]
[{"$nulls":14},{"$f":"AB3","v":"Иванов Валентин Иванович"}]
[]
["подпись"]

{"sheet":"ДКП","index":7,"n_rows":47,"n_cols":64,"rows_kept":47,"cut":false,"hidden":false,"merged":[[0,0,0,63],[1,3,1,14],[1,55,1,63],[2,4,2,62],[3,0,3,31],[3,32,3,39],[3,40,3,63],[4,0,4,31],[4,32,4,43],[4,44,4,63],[5,0,5,31],[5,32,6,63],[6,0,6,31],[7,0,7,11],[7,44,7,63],[8,0,8,11],[9,0,9,22],[7,12,7,31],[7,32,7,43],[8,12,8,31],[8,32,8,34],[8,35,8,37],[8,38,8,53],[8,54,8,63],[13,32,13,43],[13,44,13,63],[9,23,9,63],[10,0,10,63],[11,4,11,62],[12,0,12,31],[12,32,12,39],[12,40,12,63],[13,0,13,31],[14,0,14,31],[14,32,15,63],[15,0,15,31],[16,0,16,11],[16,12,16,31],[16,32,16,43],[16,44,16,63],[28,0,28,12],[29,0,29,12],[29,13,29,26],[29,27,29,40],[29,41,29,63],[30,0,30,12],[30,13,30,26],[31,0,31,12],[31,13,31,26],[31,27,31,40],[31,41,31,63],[32,13,32,26],[32,27,32,40],[32,41,32,63],[39,0,39,27],[41,0,41,27],[42,0,42,13],[42,14,42,27],[43,0,43,27],[44,0,45,13],[44,14,45,27],[46,0,46,13],[41,28,41,63],[42,28,43,63],[44,28,45,44],[44,45,45,63],[46,28,46,44],[35,13,35,20],[36,0,36,21],[36,22,36,63],[37,0,37,63],[38,0,38,63],[39,28,39,63],[40,0,40,63],[17,0,17,11],[17,12,17,31],[17,32,17,34],[17,35,17,37],[17,38,17,53],[17,54,17,63],[18,0,18,22],[18,23,18,63],[19,0,19,63],[20,0,20,63],[21,0,21,63],[22,13,24,26],[22,27,24,40],[22,41,24,63],[24,0,24,12],[22,0,22,12],[23,0,23,12],[25,0,25,12],[25,13,26,26],[25,27,26,40],[25,41,26,63],[26,0,26,12],[27,0,27,12],[27,13,27,26],[27,27,27,40],[27,41,27,63],[28,13,28,26],[28,27,28,40],[28,41,28,63],[30,27,30,40],[30,41,30,63],[33,41,33,63],[34,41,34,63],[35,41,35,63],[32,0,32,12],[33,0,35,12],[33,13,33,26],[33,27,33,40],[34,13,34,26],[34,27,35,40],[35,21,35,26]]}
["ДОГОВОР КУПЛИ-ПРОДАЖИ"]
["г. ",{"$nulls":54},{"$f":"TODAY()","v":"2026-05-18"}]
["Мы,",null,null,null,{"$f":"'Данные'!B4","v":"Иванов Валентин Иванович"},{"$nulls":58},","]
["Дата и место рождения",{"$nulls":31},{"$f":"'Данные'!B5","v":"22.09.1944"},{"$nulls":7},{"$f":"'Данные'!B6","v":"г. Москва"}]
["Документ, удостоверяющий личность",{"$nulls":31},{"$f":"'Данные'!B7","v":"ПАСПОРТ"},{"$nulls":11},{"$f":"'Данные'!B8","v":"9393 123245"}]
["Адрес регистрации по месту жительства (пребывания)",{"$nulls":31},{"$f":"'Данные'!B9","v":"г. Москва, ул. Пушкина, д. 34а"}]
[]
["Номер телефона",{"$nulls":11},{"$f":"'Данные'!B10","v":799633800000},{"$nulls":19},"Электронная почта",{"$nulls":11},{"$f":"'Данные'!B15","v":"аа@mail.ru"}]
["Гражданство",{"$nulls":11},{"$f":"'Данные'!B11","v":"Россия"},{"$nulls":19},"Пол",null,null,{"$f":"'Данные'!B14","v":"М"},null,null,"ИНН",{"$nulls":15},{"$f":"'Данные'!B13","v":283974628}]
["СНИЛС (по желанию)",{"$nulls":22},{"$f":"'Данные'!B12","v":19191919}]
["именуемый в дальнейшем ПРОДАВЕЦ"]
["и ",null,null,null,{"$f":"'Данные'!B59","v":"Иванов Сергей Иванович"},{"$nulls":58},","]
["Дата и место рождения",{"$nulls":31},{"$f":"'Данные'!B60","v":"01.01.1986"},{"$nulls":7},{"$f":"'Данные'!B61","v":"г. Новосибирск "}]
["Документ, удостоверяющий личность",{"$nulls":31},{"$f":"'Данные'!B62","v":"ПАСПОРТ"},{"$nulls":11},{"$f":"'Данные'!B63","v":"9393 155524"}]
["Адрес регистрации по месту жительства (пребывания)",{"$nulls":31},{"$f":"'Данные'!B64","v":"Новосибирск, ул. Ленина, д. 99б, кв. 1"}]
[]
["Номер телефона",{"$nulls":11},{"$f":"'Данные'!B65","v":79963381299},{"$nulls":19},"Электронная почта",{"$nulls":11},{"$f":"'Данные'!B70","v":"pp74@mail.ru"}]
["Гражданство",{"$nulls":11},{"$f":"'Данные'!B66","v":"Россия"},{"$nulls":19},"пол",null,null,{"$f":"'Данные'!B54","v":"М"},null,null,"ИНН",{"$nulls":15},{"$f":"'Данные'!B53","v":1234567890}]
["СНИЛС (по желанию)",{"$nulls":22},{"$f":"'Данные'!B52","v":1234567890}]
["именуемый в дальнейшем ПОКУПАТЕЛЬ заключили договор"]
["предмет договора:"]
[" ПОКУПАТЕЛЬ покупает, а ПРОДАВЕЦ продает 3/4 принадлежащего ему на основании свидетельства о праве на наследство транспортного средства:\n"]
["Государственный",{"$nulls":12},{"$f":"'Данные'!B21","v":"А000АА24"},{"$nulls":13},"Кузов (кабина,\nприцеп) №",{"$nulls":13},{"$f":"'Данные'!B32","v":832748923}]
["регистрационный"]
["номер"]
["Идентификационный",{"$nulls":12},{"$f":"'Данные'!B22","v":190238409284839},{"$nulls":13},"Тип привода",{"$nulls":13},{"$f":"'Данные'!B33","v":"ПЕРЕДНИЙ"}]
["номер (VIN)"]
["Модель, марка",{"$nulls":12},{"$f":"'Данные'!B23","v":"ВАЗ-2101"},{"$nulls":13},"Тип двигателя",{"$nulls":13},{"$f":"'Данные'!B34","v":"бензин"}]
["Тип ТС",{"$nulls":12},{"$f":"'Данные'!B24","v":"легковой"},{"$nulls":13},"Тип трансмиссии",{"$nulls":13},{"$f":"'Данные'!B35","v":"автомат"}]
["Цвет",{"$nulls":12},{"$f":"'Данные'!B25","v":"красный"},{"$nulls":13},"Рулевое расположение",{"$nulls":13},{"$f":"'Данные'!B36","v":"СПРАВА"}]
["Категория ТС",{"$nulls":12},{"$f":"'Данные'!B26","v":"В1"},{"$nulls":13},"Технически допустимая масса\n",{"$nulls":13},{"$f":"'Данные'!B37","v":2304929}]
["Год выпуска",{"$nulls":12},{"$f":"'Данные'!B27","v":1972},{"$nulls":13},"Масса в снаряженном\nсостоянии, кг",{"$nulls":13},{"$f":"'Данные'!B38","v":1800}]
["Шасси (рама) №",{"$nulls":12},{"$f":"'Данные'!B28","v":"Ж8539493878"},{"$nulls":13},"Модель двигателя",{"$nulls":13},{"$f":"'Данные'!B39","v":"ХТФ0407"}]
["Регистрационный\nдокумент транс-\nпортного средства",{"$nulls":12},{"$f":"'Данные'!B29","v":"СТС"},{"$nulls":13},"Двигатель №",{"$nulls":13},{"$f":"'Данные'!B40","v":2397983873}]
[{"$nulls":13},{"$f":"'Данные'!B30","v":"0 000000000"},{"$nulls":13},"Паспорт транспортного\nсредства",{"$nulls":13},{"$f":"'Данные'!B41","v":"879349879879283497879"}]
[{"$nulls":13},"выданный",{"$nulls":7},{"$f":"'Данные'!B31","v":"1988-01-01"}]
["Цена автомобиля",{"$nulls":21},10000.0]
["1. ПРОДАВЕЦ гарантирует, что транспортное средство на день подписания договора не заложено, не в розыске, не предмет споров третьих лиц. Право собственности на транспортное средство переходит к ПОКУПАТЕЛЮ подписания договора.\n2. ПОКУПАТЕЛЬ до подписания договора проверил регистрационные данные транспортного средства с помощью общедоступных сервисов  что транспортное средство не в залоге, не имеет ограничений на регистрационные действия, не арестовано, не в розыске.\n3. ПОКУПАТЕЛЬ проверил техническое состояние и комплектацию транспортного средства и претензий к ним не имеет.\n4. Если ПРОДАВЕЦ нарушил условия п. 1 договора, он обязан незамедлительно вернуть ПОКУПАТЕЛЮ  переданную тем полную оплату цены транспортного средства.\n5. ПОКУПАТЕЛЬ обязан в течение 10 дней со дня приобретения транспортного средства поставить его на учет в ГИБДД. В случае пропуска срока ПОКУПАТЕЛЬ несет ответственность по уплате транспортного налога, штрафов за нарушение ПДД и иной ущерб, причиненный с участием транспортного средства.\n\n"]
["Договор составлен в трех экземплярах: по одному каждой стороне и один для ГИБДД\n"]
["Степень родства продавца и покупателя"]
["ПОДПИСИ СТОРОН"]
["ПРОДАВЕЦ \n",{"$nulls":27},"ПОКУПАТЕЛЬ "]
["деньги в сумме ",{"$nulls":13},{"$f":"W37","v":10000},{"$nulls":13},"транспортное средство, ПТС, СТС, ключи и два экземпляра договора получил."]
["и один экземпляр настоящего договора получил."]
[{"$nulls":14},{"$f":"E3","v":"Иванов Валентин Иванович"},{"$nulls":30},{"$f":"E12","v":"Иванов Сергей Иванович"}]
[]
["подпись",{"$nulls":27},"подпись"]